Package: RITAN Version: 1.35.0 Command: /home/biocbuild/bbs-3.23-bioc/R/bin/R CMD INSTALL RITAN StartedAt: 2025-11-20 15:41:40 -0500 (Thu, 20 Nov 2025) EndedAt: 2025-11-20 15:42:23 -0500 (Thu, 20 Nov 2025) EllapsedTime: 43.4 seconds RetCode: 0 Status: OK