Package: RITAN Version: 1.35.0 Command: /home/biocbuild/bbs-3.23-bioc/R/bin/R CMD build --keep-empty-dirs --no-resave-data RITAN StartedAt: 2025-11-20 19:38:33 -0500 (Thu, 20 Nov 2025) EndedAt: 2025-11-20 19:40:21 -0500 (Thu, 20 Nov 2025) EllapsedTime: 108.1 seconds RetCode: 0 Status: OK PackageFile: RITAN_1.35.0.tar.gz PackageFileSize: 805.3 KiB