Package: RITAN Version: 1.33.0 Command: /Library/Frameworks/R.framework/Resources/bin/R CMD build --keep-empty-dirs --no-resave-data RITAN StartedAt: 2025-10-24 18:29:37 -0400 (Fri, 24 Oct 2025) EndedAt: 2025-10-24 18:31:48 -0400 (Fri, 24 Oct 2025) EllapsedTime: 131.6 seconds RetCode: 0 Status: OK PackageFile: RITAN_1.33.0.tar.gz PackageFileSize: 880.3 KiB