Package: RITAN Version: 1.33.0 Command: /Library/Frameworks/R.framework/Resources/bin/R CMD build --keep-empty-dirs --no-resave-data RITAN StartedAt: 2025-10-03 17:30:35 -0400 (Fri, 03 Oct 2025) EndedAt: 2025-10-03 17:31:25 -0400 (Fri, 03 Oct 2025) EllapsedTime: 49.5 seconds RetCode: 0 Status: OK PackageFile: RITAN_1.33.0.tar.gz PackageFileSize: 880.6 KiB