Package: RGSEA Version: 1.45.0 Command: /home/biocbuild/bbs-3.23-bioc/R/bin/R CMD INSTALL RGSEA StartedAt: 2025-10-31 15:19:48 -0400 (Fri, 31 Oct 2025) EndedAt: 2025-10-31 15:19:50 -0400 (Fri, 31 Oct 2025) EllapsedTime: 2.0 seconds RetCode: 0 Status: OK