Package: RGSEA Version: 1.43.0 Command: /Library/Frameworks/R.framework/Resources/bin/R CMD INSTALL RGSEA StartedAt: 2025-10-03 15:13:20 -0400 (Fri, 03 Oct 2025) EndedAt: 2025-10-03 15:13:33 -0400 (Fri, 03 Oct 2025) EllapsedTime: 12.3 seconds RetCode: 0 Status: OK