Package: RGSEA Version: 1.43.0 Command: rm -rf RGSEA.buildbin-libdir && mkdir RGSEA.buildbin-libdir && /Users/biocbuild/BBS/utils/build-universal.sh RGSEA_1.43.0.tar.gz /Library/Frameworks/R.framework/Resources/bin/R RGSEA.buildbin-libdir StartedAt: 2025-10-04 02:24:49 -0400 (Sat, 04 Oct 2025) EndedAt: 2025-10-04 02:24:56 -0400 (Sat, 04 Oct 2025) EllapsedTime: 7.0 seconds RetCode: 0 Status: OK PackageFile: RGSEA_1.43.0.tgz PackageFileSize: 1.749 MiB