Package: RFLOMICS Version: 1.1.4 Command: /home/biocbuild/R/R/bin/R CMD INSTALL RFLOMICS StartedAt: 2025-10-09 21:55:09 -0000 (Thu, 09 Oct 2025) EndedAt: 2025-10-09 21:56:16 -0000 (Thu, 09 Oct 2025) EllapsedTime: 66.9 seconds RetCode: 0 Status: OK