Package: RFLOMICS Version: 1.1.4 Command: /home/biocbuild/R/R/bin/R CMD build --keep-empty-dirs --no-resave-data RFLOMICS StartedAt: 2025-10-10 03:27:10 -0000 (Fri, 10 Oct 2025) EndedAt: 2025-10-10 03:54:01 -0000 (Fri, 10 Oct 2025) EllapsedTime: 1611.2 seconds RetCode: 0 Status: OK PackageFile: RFLOMICS_1.1.4.tar.gz PackageFileSize: 4.417 MiB