Package: RFLOMICS Version: 1.3.0 Command: /home/biocbuild/bbs-3.23-bioc/R/bin/R CMD check --install=check:RFLOMICS.install-out.txt --library=/home/biocbuild/bbs-3.23-bioc/R/site-library --timings RFLOMICS_1.3.0.tar.gz StartedAt: 2025-11-07 02:56:30 -0500 (Fri, 07 Nov 2025) EndedAt: 2025-11-07 03:08:17 -0500 (Fri, 07 Nov 2025) EllapsedTime: 706.5 seconds RetCode: 0 Status: OK CheckDir: RFLOMICS.Rcheck Warnings: 0