Package: RFLOMICS Version: 1.3.0 Command: /home/biocbuild/bbs-3.23-bioc/R/bin/R CMD build --keep-empty-dirs --no-resave-data RFLOMICS StartedAt: 2025-11-04 19:29:51 -0500 (Tue, 04 Nov 2025) EndedAt: 2025-11-04 19:32:12 -0500 (Tue, 04 Nov 2025) EllapsedTime: 141.2 seconds RetCode: 0 Status: OK PackageFile: RFLOMICS_1.3.0.tar.gz PackageFileSize: 5.185 MiB