Package: RESOLVE Version: 1.11.2 Command: /home/biocbuild/R/R/bin/R CMD INSTALL RESOLVE StartedAt: 2025-10-16 22:18:14 -0000 (Thu, 16 Oct 2025) EndedAt: 2025-10-16 22:18:15 -0000 (Thu, 16 Oct 2025) EllapsedTime: 1.0 seconds RetCode: 1 Status: ERROR