Package: RESOLVE Version: 1.11.2 Command: /home/biocbuild/R/R/bin/R CMD build --keep-empty-dirs --no-resave-data RESOLVE StartedAt: 2025-10-17 03:57:14 -0000 (Fri, 17 Oct 2025) EndedAt: 2025-10-17 03:57:15 -0000 (Fri, 17 Oct 2025) EllapsedTime: 1.0 seconds RetCode: 1 Status: ERROR PackageFile: None PackageFileSize: NA