############################################################################## ############################################################################## ### ### Running command: ### ### /home/biocbuild/R/R/bin/R CMD build --keep-empty-dirs --no-resave-data RESOLVE ### ############################################################################## ############################################################################## * checking for file ‘RESOLVE/DESCRIPTION’ ... OK * preparing ‘RESOLVE’: * checking DESCRIPTION meta-information ... OK * installing the package to build vignettes ----------------------------------- ERROR: dependency ‘BSgenome.Hsapiens.1000genomes.hs37d5’ is not available for package ‘RESOLVE’ Perhaps try a variation of: install.packages('BSgenome.Hsapiens.1000genomes.hs37d5') * removing ‘/home/biocbuild/tmp/Rtmp245DGx/Rinst3fb3c1228b53fd/RESOLVE’ ----------------------------------- ERROR: package installation failed