Package: RESOLVE Version: 1.11.2 Command: /home/biocbuild/bbs-3.22-bioc/R/bin/R CMD check --install=check:RESOLVE.install-out.txt --library=/home/biocbuild/bbs-3.22-bioc/R/site-library --timings RESOLVE_1.11.2.tar.gz StartedAt: 2025-10-14 03:44:18 -0400 (Tue, 14 Oct 2025) EndedAt: 2025-10-14 03:59:20 -0400 (Tue, 14 Oct 2025) EllapsedTime: 902.0 seconds RetCode: 0 Status: OK CheckDir: RESOLVE.Rcheck Warnings: 0