Package: RESOLVE Version: 1.13.0 Command: /home/biocbuild/bbs-3.23-bioc/R/bin/R CMD check --install=check:RESOLVE.install-out.txt --library=/home/biocbuild/bbs-3.23-bioc/R/site-library --timings RESOLVE_1.13.0.tar.gz StartedAt: 2025-11-26 03:15:39 -0500 (Wed, 26 Nov 2025) EndedAt: 2025-11-26 03:30:34 -0500 (Wed, 26 Nov 2025) EllapsedTime: 894.7 seconds RetCode: 0 Status: OK CheckDir: RESOLVE.Rcheck Warnings: 0