Package: RESOLVE Version: 1.13.0 Command: /home/biocbuild/bbs-3.23-bioc/R/bin/R CMD build --keep-empty-dirs --no-resave-data RESOLVE StartedAt: 2025-11-05 19:36:36 -0500 (Wed, 05 Nov 2025) EndedAt: 2025-11-05 19:37:34 -0500 (Wed, 05 Nov 2025) EllapsedTime: 58.1 seconds RetCode: 0 Status: OK PackageFile: RESOLVE_1.13.0.tar.gz PackageFileSize: 856.4 KiB