Package: REMP Version: 1.35.0 Command: /home/biocbuild/bbs-3.23-bioc/R/bin/R CMD INSTALL REMP StartedAt: 2025-11-05 15:49:58 -0500 (Wed, 05 Nov 2025) EndedAt: 2025-11-05 15:50:56 -0500 (Wed, 05 Nov 2025) EllapsedTime: 58.3 seconds RetCode: 0 Status: OK