Package: REMP Version: 1.33.1 Command: /Library/Frameworks/R.framework/Resources/bin/R CMD INSTALL REMP StartedAt: 2025-10-16 16:05:05 -0400 (Thu, 16 Oct 2025) EndedAt: 2025-10-16 16:06:25 -0400 (Thu, 16 Oct 2025) EllapsedTime: 79.9 seconds RetCode: 0 Status: OK