Package: REMP Version: 1.33.1 Command: /Library/Frameworks/R.framework/Resources/bin/R CMD build --keep-empty-dirs --no-resave-data REMP StartedAt: 2025-10-17 18:59:50 -0400 (Fri, 17 Oct 2025) EndedAt: 2025-10-17 19:02:52 -0400 (Fri, 17 Oct 2025) EllapsedTime: 181.5 seconds RetCode: 0 Status: OK PackageFile: REMP_1.33.1.tar.gz PackageFileSize: 189.7 KiB