Package: REMP Version: 1.33.1 Command: rm -rf REMP.buildbin-libdir && mkdir REMP.buildbin-libdir && /Users/biocbuild/BBS/utils/build-universal.sh REMP_1.33.1.tar.gz /Library/Frameworks/R.framework/Resources/bin/R REMP.buildbin-libdir StartedAt: 2025-10-17 04:09:17 -0400 (Fri, 17 Oct 2025) EndedAt: 2025-10-17 04:10:40 -0400 (Fri, 17 Oct 2025) EllapsedTime: 83.5 seconds RetCode: 0 Status: OK PackageFile: REMP_1.33.1.tgz PackageFileSize: 691.8 KiB