Package: REMP Version: 1.35.0 Maintainer: Yinan Zheng MaintainerEmail: y-zheng at northwestern.edu git_url: https://git.bioconductor.org/packages/REMP git_branch: devel git_last_commit: 6cbaa64 git_last_commit_date: 2025-10-29 10:36:53 -0500 (Wed, 29 Oct 2025)