Package: REDseq Version: 1.55.0 Command: /Library/Frameworks/R.framework/Resources/bin/R CMD INSTALL REDseq StartedAt: 2025-10-10 15:49:11 -0400 (Fri, 10 Oct 2025) EndedAt: 2025-10-10 15:50:14 -0400 (Fri, 10 Oct 2025) EllapsedTime: 64.0 seconds RetCode: 0 Status: OK