Package: REDseq Version: 1.55.0 Command: /Library/Frameworks/R.framework/Resources/bin/R CMD build --keep-empty-dirs --no-resave-data REDseq StartedAt: 2025-10-10 18:51:36 -0400 (Fri, 10 Oct 2025) EndedAt: 2025-10-10 18:53:03 -0400 (Fri, 10 Oct 2025) EllapsedTime: 87.1 seconds RetCode: 0 Status: OK PackageFile: REDseq_1.55.0.tar.gz PackageFileSize: 360.7 KiB