Package: REDseq Version: 1.55.0 Command: rm -rf REDseq.buildbin-libdir && mkdir REDseq.buildbin-libdir && /Users/biocbuild/BBS/utils/build-universal.sh REDseq_1.55.0.tar.gz /Library/Frameworks/R.framework/Resources/bin/R REDseq.buildbin-libdir StartedAt: 2025-10-11 02:48:16 -0400 (Sat, 11 Oct 2025) EndedAt: 2025-10-11 02:49:22 -0400 (Sat, 11 Oct 2025) EllapsedTime: 66.8 seconds RetCode: 0 Status: OK PackageFile: REDseq_1.55.0.tgz PackageFileSize: 417.2 KiB