Package: REDseq Version: 1.55.0 Maintainer: Lihua Julie Zhu MaintainerEmail: julie.zhu at umassmed.edu git_url: https://git.bioconductor.org/packages/REDseq git_branch: devel git_last_commit: a5e678b git_last_commit_date: 2025-04-15 10:08:33 -0400 (Tue, 15 Apr 2025)