Package: RDRToolbox Version: 1.61.0 Command: /home/biocbuild/bbs-3.23-bioc/R/bin/R CMD INSTALL RDRToolbox StartedAt: 2025-10-31 15:15:07 -0400 (Fri, 31 Oct 2025) EndedAt: 2025-10-31 15:15:44 -0400 (Fri, 31 Oct 2025) EllapsedTime: 37.3 seconds RetCode: 0 Status: OK