Package: RDRToolbox Version: 1.61.0 Command: /home/biocbuild/bbs-3.23-bioc/R/bin/R CMD check --install=check:RDRToolbox.install-out.txt --library=/home/biocbuild/bbs-3.23-bioc/R/site-library --timings RDRToolbox_1.61.0.tar.gz StartedAt: 2025-11-03 02:36:06 -0500 (Mon, 03 Nov 2025) EndedAt: 2025-11-03 02:36:50 -0500 (Mon, 03 Nov 2025) EllapsedTime: 44.1 seconds RetCode: 0 Status: OK CheckDir: RDRToolbox.Rcheck Warnings: 0