Package: RDRToolbox Version: 1.61.0 Command: /home/biocbuild/bbs-3.23-bioc/R/bin/R CMD build --keep-empty-dirs --no-resave-data RDRToolbox StartedAt: 2025-10-31 19:42:12 -0400 (Fri, 31 Oct 2025) EndedAt: 2025-10-31 19:42:24 -0400 (Fri, 31 Oct 2025) EllapsedTime: 12.0 seconds RetCode: 0 Status: OK PackageFile: RDRToolbox_1.61.0.tar.gz PackageFileSize: 190.5 KiB