Package: RDRToolbox Version: 1.60.0 Command: /Library/Frameworks/R.framework/Resources/bin/R CMD check --install=check:RDRToolbox.install-out.txt --library=/Library/Frameworks/R.framework/Resources/library --no-vignettes --timings --no-examples RDRToolbox_1.60.0.tar.gz StartedAt: 2025-10-30 03:59:59 -0400 (Thu, 30 Oct 2025) EndedAt: 2025-10-30 04:00:10 -0400 (Thu, 30 Oct 2025) EllapsedTime: 11.2 seconds RetCode: 0 Status: OK CheckDir: RDRToolbox.Rcheck Warnings: 0