Package: RCyjs Version: 2.33.0 Command: /home/biocbuild/bbs-3.23-bioc/R/bin/R CMD build --keep-empty-dirs --no-resave-data RCyjs StartedAt: 2025-11-07 19:28:49 -0500 (Fri, 07 Nov 2025) EndedAt: 2025-11-07 19:28:58 -0500 (Fri, 07 Nov 2025) EllapsedTime: 9.0 seconds RetCode: 0 Status: OK PackageFile: RCyjs_2.33.0.tar.gz PackageFileSize: 1.084 MiB