Package: RCyjs Version: 2.31.0 Command: /Library/Frameworks/R.framework/Resources/bin/R CMD INSTALL RCyjs StartedAt: 2025-10-06 15:08:02 -0400 (Mon, 06 Oct 2025) EndedAt: 2025-10-06 15:08:05 -0400 (Mon, 06 Oct 2025) EllapsedTime: 3.1 seconds RetCode: 0 Status: OK