Package: RCyjs Version: 2.31.0 Command: /Library/Frameworks/R.framework/Resources/bin/R CMD build --keep-empty-dirs --no-resave-data RCyjs StartedAt: 2025-10-06 17:28:27 -0400 (Mon, 06 Oct 2025) EndedAt: 2025-10-06 17:28:32 -0400 (Mon, 06 Oct 2025) EllapsedTime: 5.1 seconds RetCode: 0 Status: OK PackageFile: RCyjs_2.31.0.tar.gz PackageFileSize: 1.084 MiB