Package: RCyjs Version: 2.31.0 Command: rm -rf RCyjs.buildbin-libdir && mkdir RCyjs.buildbin-libdir && /Users/biocbuild/BBS/utils/build-universal.sh RCyjs_2.31.0.tar.gz /Library/Frameworks/R.framework/Resources/bin/R RCyjs.buildbin-libdir StartedAt: 2025-10-07 22:58:01 -0400 (Tue, 07 Oct 2025) EndedAt: 2025-10-07 22:58:04 -0400 (Tue, 07 Oct 2025) EllapsedTime: 3.1 seconds RetCode: 0 Status: OK PackageFile: RCyjs_2.31.0.tgz PackageFileSize: 1.006 MiB