Package: RCy3 Version: 2.31.0 Command: /home/biocbuild/bbs-3.23-bioc/R/bin/R CMD INSTALL RCy3 StartedAt: 2025-11-20 15:11:55 -0500 (Thu, 20 Nov 2025) EndedAt: 2025-11-20 15:12:06 -0500 (Thu, 20 Nov 2025) EllapsedTime: 11.4 seconds RetCode: 0 Status: OK