Package: RCy3 Version: 2.31.0 Command: /home/biocbuild/bbs-3.23-bioc/R/bin/R CMD build --keep-empty-dirs --no-resave-data RCy3 StartedAt: 2025-11-20 19:32:22 -0500 (Thu, 20 Nov 2025) EndedAt: 2025-11-20 19:32:56 -0500 (Thu, 20 Nov 2025) EllapsedTime: 34.1 seconds RetCode: 0 Status: OK PackageFile: RCy3_2.31.0.tar.gz PackageFileSize: 6.457 MiB