Package: RCy3 Version: 2.29.2 Command: /Library/Frameworks/R.framework/Resources/bin/R CMD INSTALL RCy3 StartedAt: 2025-10-16 15:41:13 -0400 (Thu, 16 Oct 2025) EndedAt: 2025-10-16 15:41:34 -0400 (Thu, 16 Oct 2025) EllapsedTime: 21.1 seconds RetCode: 0 Status: OK