Package: RCy3 Version: 2.29.2 Command: /Library/Frameworks/R.framework/Resources/bin/R CMD build --keep-empty-dirs --no-resave-data RCy3 StartedAt: 2025-10-17 18:57:45 -0400 (Fri, 17 Oct 2025) EndedAt: 2025-10-17 18:59:26 -0400 (Fri, 17 Oct 2025) EllapsedTime: 100.6 seconds RetCode: 0 Status: OK PackageFile: RCy3_2.29.2.tar.gz PackageFileSize: 6.458 MiB