Package: RCy3 Version: 2.29.2 Command: rm -rf RCy3.buildbin-libdir && mkdir RCy3.buildbin-libdir && /Users/biocbuild/BBS/utils/build-universal.sh RCy3_2.29.2.tar.gz /Library/Frameworks/R.framework/Resources/bin/R RCy3.buildbin-libdir StartedAt: 2025-10-18 03:16:22 -0400 (Sat, 18 Oct 2025) EndedAt: 2025-10-18 03:16:48 -0400 (Sat, 18 Oct 2025) EllapsedTime: 25.4 seconds RetCode: 0 Status: OK PackageFile: RCy3_2.29.2.tgz PackageFileSize: 7.324 MiB