Package: RCy3 Version: 2.29.1 Command: /Library/Frameworks/R.framework/Resources/bin/R CMD INSTALL RCy3 StartedAt: 2025-10-03 15:06:59 -0400 (Fri, 03 Oct 2025) EndedAt: 2025-10-03 15:07:04 -0400 (Fri, 03 Oct 2025) EllapsedTime: 4.8 seconds RetCode: 0 Status: OK