Package: RCy3 Version: 2.29.1 Command: /Library/Frameworks/R.framework/Resources/bin/R CMD build --keep-empty-dirs --no-resave-data RCy3 StartedAt: 2025-10-03 17:27:29 -0400 (Fri, 03 Oct 2025) EndedAt: 2025-10-03 17:27:50 -0400 (Fri, 03 Oct 2025) EllapsedTime: 21.3 seconds RetCode: 0 Status: OK PackageFile: RCy3_2.29.1.tar.gz PackageFileSize: 6.207 MiB