Package: RCy3 Version: 2.29.1 Command: rm -rf RCy3.buildbin-libdir && mkdir RCy3.buildbin-libdir && /Users/biocbuild/BBS/utils/build-universal.sh RCy3_2.29.1.tar.gz /Library/Frameworks/R.framework/Resources/bin/R RCy3.buildbin-libdir StartedAt: 2025-10-03 22:51:54 -0400 (Fri, 03 Oct 2025) EndedAt: 2025-10-03 22:52:01 -0400 (Fri, 03 Oct 2025) EllapsedTime: 7.2 seconds RetCode: 0 Status: OK PackageFile: RCy3_2.29.1.tgz PackageFileSize: 7.095 MiB