Package: RCy3 Version: 2.31.0 Maintainer: Alex Pico MaintainerEmail: alex.pico at gladstone.ucsf.edu git_url: https://git.bioconductor.org/packages/RCy3 git_branch: devel git_last_commit: f7dcce5 git_last_commit_date: 2025-10-29 10:28:27 -0500 (Wed, 29 Oct 2025)