Package: RCX Version: 1.15.0 Command: /home/biocbuild/bbs-3.23-bioc/R/bin/R CMD INSTALL RCX StartedAt: 2025-11-02 15:11:49 -0500 (Sun, 02 Nov 2025) EndedAt: 2025-11-02 15:11:55 -0500 (Sun, 02 Nov 2025) EllapsedTime: 5.4 seconds RetCode: 0 Status: OK