Package: RCX Version: 1.15.0 Command: /home/biocbuild/bbs-3.23-bioc/R/bin/R CMD build --keep-empty-dirs --no-resave-data RCX StartedAt: 2025-11-02 19:26:59 -0500 (Sun, 02 Nov 2025) EndedAt: 2025-11-02 19:27:21 -0500 (Sun, 02 Nov 2025) EllapsedTime: 22.0 seconds RetCode: 0 Status: OK PackageFile: RCX_1.15.0.tar.gz PackageFileSize: 4.574 MiB