Package: RCX Version: 1.13.1 Command: /Library/Frameworks/R.framework/Resources/bin/R CMD build --keep-empty-dirs --no-resave-data RCX StartedAt: 2025-10-06 18:40:59 -0400 (Mon, 06 Oct 2025) EndedAt: 2025-10-06 18:41:50 -0400 (Mon, 06 Oct 2025) EllapsedTime: 51.7 seconds RetCode: 0 Status: OK PackageFile: RCX_1.13.1.tar.gz PackageFileSize: 4.574 MiB