Package: RCX Version: 1.13.1 Command: rm -rf RCX.buildbin-libdir && mkdir RCX.buildbin-libdir && /Users/biocbuild/BBS/utils/build-universal.sh RCX_1.13.1.tar.gz /Library/Frameworks/R.framework/Resources/bin/R RCX.buildbin-libdir StartedAt: 2025-10-07 02:28:41 -0400 (Tue, 07 Oct 2025) EndedAt: 2025-10-07 02:28:55 -0400 (Tue, 07 Oct 2025) EllapsedTime: 13.7 seconds RetCode: 0 Status: OK PackageFile: RCX_1.13.1.tgz PackageFileSize: 3.611 MiB