Package: RCX Version: 1.13.1 Command: /Library/Frameworks/R.framework/Resources/bin/R CMD INSTALL RCX StartedAt: 2025-09-21 15:03:10 -0400 (Sun, 21 Sep 2025) EndedAt: 2025-09-21 15:03:14 -0400 (Sun, 21 Sep 2025) EllapsedTime: 3.3 seconds RetCode: 0 Status: OK