Package: RCX Version: 1.13.1 Command: rm -rf RCX.buildbin-libdir && mkdir RCX.buildbin-libdir && /Users/biocbuild/BBS/utils/build-universal.sh RCX_1.13.1.tar.gz /Library/Frameworks/R.framework/Resources/bin/R RCX.buildbin-libdir StartedAt: 2025-09-21 23:01:53 -0400 (Sun, 21 Sep 2025) EndedAt: 2025-09-21 23:01:57 -0400 (Sun, 21 Sep 2025) EllapsedTime: 4.1 seconds RetCode: 0 Status: OK PackageFile: RCX_1.13.1.tgz PackageFileSize: 3.62 MiB