Package: RCX Version: 1.13.1 Maintainer: Florian Auer MaintainerEmail: florian.auer at informatik.uni-augsburg.de git_url: https://git.bioconductor.org/packages/RCX git_branch: devel git_last_commit: 996b128 git_last_commit_date: 2025-09-06 08:48:09 -0400 (Sat, 06 Sep 2025)